Package: DNEA Version: 0.99.14 Command: rm -rf DNEA.buildbin-libdir && mkdir DNEA.buildbin-libdir && F:\biocbuild\bbs-3.22-bioc\R\bin\R.exe CMD INSTALL --build --library=DNEA.buildbin-libdir DNEA_0.99.14.tar.gz StartedAt: 2025-08-15 10:10:55 -0400 (Fri, 15 Aug 2025) EndedAt: 2025-08-15 10:12:14 -0400 (Fri, 15 Aug 2025) EllapsedTime: 79.6 seconds RetCode: 0 Status: OK PackageFile: DNEA_0.99.14.zip PackageFileSize: 2.597 MiB