Package: DNEA Version: 0.99.14 Command: /home/biocbuild/bbs-3.22-bioc/R/bin/R CMD INSTALL DNEA StartedAt: 2025-07-07 15:35:45 -0400 (Mon, 07 Jul 2025) EndedAt: 2025-07-07 15:36:20 -0400 (Mon, 07 Jul 2025) EllapsedTime: 35.3 seconds RetCode: 0 Status: OK