Package: DNEA Version: 0.99.14 Command: /home/biocbuild/bbs-3.22-bioc/R/bin/R CMD check --install=check:DNEA.install-out.txt --library=/home/biocbuild/bbs-3.22-bioc/R/site-library --timings DNEA_0.99.14.tar.gz StartedAt: 2025-07-07 21:53:38 -0400 (Mon, 07 Jul 2025) EndedAt: 2025-07-07 22:02:49 -0400 (Mon, 07 Jul 2025) EllapsedTime: 550.5 seconds RetCode: 0 Status: OK CheckDir: DNEA.Rcheck Warnings: 0