Package: DNEA Version: 0.99.14 Command: rm -rf DNEA.buildbin-libdir && mkdir DNEA.buildbin-libdir && /Users/biocbuild/BBS/utils/build-universal.sh DNEA_0.99.14.tar.gz /Library/Frameworks/R.framework/Resources/bin/R DNEA.buildbin-libdir StartedAt: 2025-07-08 00:50:42 -0400 (Tue, 08 Jul 2025) EndedAt: 2025-07-08 00:51:29 -0400 (Tue, 08 Jul 2025) EllapsedTime: 47.2 seconds RetCode: 0 Status: OK PackageFile: DNEA_0.99.14.tgz PackageFileSize: 3.519 MiB