Package: DNEA Version: 0.99.14 Command: /Library/Frameworks/R.framework/Resources/bin/R CMD INSTALL DNEA StartedAt: 2025-07-07 15:14:14 -0400 (Mon, 07 Jul 2025) EndedAt: 2025-07-07 15:14:27 -0400 (Mon, 07 Jul 2025) EllapsedTime: 12.8 seconds RetCode: 0 Status: OK