Package: DNEA Version: 0.99.14 Command: /Library/Frameworks/R.framework/Resources/bin/R CMD check --install=check:DNEA.install-out.txt --library=/Library/Frameworks/R.framework/Resources/library --no-vignettes --timings DNEA_0.99.14.tar.gz StartedAt: 2025-07-07 18:59:51 -0400 (Mon, 07 Jul 2025) EndedAt: 2025-07-07 19:03:23 -0400 (Mon, 07 Jul 2025) EllapsedTime: 212.6 seconds RetCode: 0 Status: OK CheckDir: DNEA.Rcheck Warnings: 0