Package: DNEA Version: 0.99.14 Command: /Library/Frameworks/R.framework/Resources/bin/R CMD build --keep-empty-dirs --no-resave-data DNEA StartedAt: 2025-07-07 16:09:05 -0400 (Mon, 07 Jul 2025) EndedAt: 2025-07-07 16:09:40 -0400 (Mon, 07 Jul 2025) EllapsedTime: 34.4 seconds RetCode: 0 Status: OK PackageFile: DNEA_0.99.14.tar.gz PackageFileSize: 4.381 MiB