Package: DNEA Version: 0.99.14 Maintainer: Christopher Patsalis MaintainerEmail: chrispatsalis at gmail.com git_url: https://git.bioconductor.org/packages/DNEA git_branch: devel git_last_commit: d511133 git_last_commit_date: 2025-07-01 13:19:29 -0400 (Tue, 01 Jul 2025)