Package: DNAshapeR Version: 1.37.0 Command: rm -rf DNAshapeR.buildbin-libdir && mkdir DNAshapeR.buildbin-libdir && F:\biocbuild\bbs-3.22-bioc\R\bin\R.exe CMD INSTALL --build --library=DNAshapeR.buildbin-libdir DNAshapeR_1.37.0.tar.gz StartedAt: 2025-07-01 08:49:20 -0400 (Tue, 01 Jul 2025) EndedAt: 2025-07-01 08:50:24 -0400 (Tue, 01 Jul 2025) EllapsedTime: 64.6 seconds RetCode: 0 Status: OK PackageFile: DNAshapeR_1.37.0.zip PackageFileSize: 1.454 MiB