Package: DNAfusion Version: 1.11.0 Command: /home/biocbuild/R/R/bin/R CMD INSTALL DNAfusion StartedAt: 2025-06-30 21:08:36 -0000 (Mon, 30 Jun 2025) EndedAt: 2025-06-30 21:09:19 -0000 (Mon, 30 Jun 2025) EllapsedTime: 43.0 seconds RetCode: 0 Status: OK