Package: DNAfusion Version: 1.11.0 Command: chmod a+r DNAfusion -R && F:\biocbuild\bbs-3.22-bioc\R\bin\R.exe CMD build --keep-empty-dirs --no-resave-data DNAfusion StartedAt: 2025-07-11 18:37:00 -0400 (Fri, 11 Jul 2025) EndedAt: 2025-07-11 18:40:04 -0400 (Fri, 11 Jul 2025) EllapsedTime: 184.3 seconds RetCode: 0 Status: OK PackageFile: DNAfusion_1.11.0.tar.gz PackageFileSize: 6.298 MiB