Package: DNAfusion Version: 1.11.0 Command: rm -rf DNAfusion.buildbin-libdir && mkdir DNAfusion.buildbin-libdir && F:\biocbuild\bbs-3.22-bioc\R\bin\R.exe CMD INSTALL --build --library=DNAfusion.buildbin-libdir DNAfusion_1.11.0.tar.gz StartedAt: 2025-07-12 08:45:15 -0400 (Sat, 12 Jul 2025) EndedAt: 2025-07-12 08:45:59 -0400 (Sat, 12 Jul 2025) EllapsedTime: 43.8 seconds RetCode: 0 Status: OK PackageFile: DNAfusion_1.11.0.zip PackageFileSize: 6.317 MiB