Package: DNAcopy Version: 1.83.0 Command: F:\biocbuild\bbs-3.22-bioc\R\bin\R.exe CMD check --no-multiarch --install=check:DNAcopy.install-out.txt --library=F:\biocbuild\bbs-3.22-bioc\R\library --no-vignettes --timings DNAcopy_1.83.0.tar.gz StartedAt: 2025-07-01 01:31:04 -0400 (Tue, 01 Jul 2025) EndedAt: 2025-07-01 01:31:48 -0400 (Tue, 01 Jul 2025) EllapsedTime: 44.1 seconds RetCode: 0 Status: OK CheckDir: DNAcopy.Rcheck Warnings: 0