Package: DNAcopy Version: 1.83.0 Command: /Library/Frameworks/R.framework/Resources/bin/R CMD check --install=check:DNAcopy.install-out.txt --library=/Library/Frameworks/R.framework/Resources/library --no-vignettes --timings DNAcopy_1.83.0.tar.gz StartedAt: 2025-10-05 21:09:39 -0400 (Sun, 05 Oct 2025) EndedAt: 2025-10-05 21:10:17 -0400 (Sun, 05 Oct 2025) EllapsedTime: 37.7 seconds RetCode: 0 Status: OK CheckDir: DNAcopy.Rcheck Warnings: 0