Package: DNAcopy Version: 1.83.0 Command: /Library/Frameworks/R.framework/Resources/bin/R CMD build --keep-empty-dirs --no-resave-data DNAcopy StartedAt: 2025-10-05 16:50:35 -0400 (Sun, 05 Oct 2025) EndedAt: 2025-10-05 16:51:02 -0400 (Sun, 05 Oct 2025) EllapsedTime: 27.4 seconds RetCode: 0 Status: OK PackageFile: DNAcopy_1.83.0.tar.gz PackageFileSize: 404.1 KiB