Package: DNABarcodeCompatibility Version: 1.25.0 Command: F:\biocbuild\bbs-3.22-bioc\R\bin\R.exe CMD INSTALL DNABarcodeCompatibility StartedAt: 2025-07-04 17:04:58 -0400 (Fri, 04 Jul 2025) EndedAt: 2025-07-04 17:07:45 -0400 (Fri, 04 Jul 2025) EllapsedTime: 167.8 seconds RetCode: 0 Status: OK