Package: DNABarcodeCompatibility Version: 1.25.0 Command: F:\biocbuild\bbs-3.22-bioc\R\bin\R.exe CMD check --no-multiarch --install=check:DNABarcodeCompatibility.install-out.txt --library=F:\biocbuild\bbs-3.22-bioc\R\library --no-vignettes --timings DNABarcodeCompatibility_1.25.0.tar.gz StartedAt: 2025-07-08 01:27:00 -0400 (Tue, 08 Jul 2025) EndedAt: 2025-07-08 01:28:18 -0400 (Tue, 08 Jul 2025) EllapsedTime: 78.2 seconds RetCode: 0 Status: OK CheckDir: DNABarcodeCompatibility.Rcheck Warnings: 0