Package: DNABarcodeCompatibility Version: 1.25.0 Command: chmod a+r DNABarcodeCompatibility -R && F:\biocbuild\bbs-3.22-bioc\R\bin\R.exe CMD build --keep-empty-dirs --no-resave-data DNABarcodeCompatibility StartedAt: 2025-07-04 18:37:15 -0400 (Fri, 04 Jul 2025) EndedAt: 2025-07-04 18:39:04 -0400 (Fri, 04 Jul 2025) EllapsedTime: 109.2 seconds RetCode: 0 Status: OK PackageFile: DNABarcodeCompatibility_1.25.0.tar.gz PackageFileSize: 260.6 KiB