Package: DMRcate Version: 3.5.0 Command: /home/biocbuild/R/R/bin/R CMD check --install=check:DMRcate.install-out.txt --library=/home/biocbuild/R/R/site-library --no-vignettes --timings DMRcate_3.5.0.tar.gz StartedAt: 2025-07-22 06:35:13 -0000 (Tue, 22 Jul 2025) EndedAt: 2025-07-22 07:15:13 -0000 (Tue, 22 Jul 2025) EllapsedTime: 2400.5 seconds RetCode: None Status: TIMEOUT CheckDir: DMRcate.Rcheck Warnings: NA