Package: DMRcate Version: 3.5.0 Command: /home/biocbuild/bbs-3.22-bioc/R/bin/R CMD INSTALL DMRcate StartedAt: 2025-07-14 16:06:50 -0400 (Mon, 14 Jul 2025) EndedAt: 2025-07-14 16:07:47 -0400 (Mon, 14 Jul 2025) EllapsedTime: 57.0 seconds RetCode: 0 Status: OK