Package: DMRcate Version: 3.5.0 Command: /Library/Frameworks/R.framework/Resources/bin/R CMD INSTALL DMRcate StartedAt: 2025-07-16 15:33:08 -0400 (Wed, 16 Jul 2025) EndedAt: 2025-07-16 15:33:29 -0400 (Wed, 16 Jul 2025) EllapsedTime: 20.7 seconds RetCode: 0 Status: OK