Package: DMRcate Version: 3.5.0 Command: /Library/Frameworks/R.framework/Resources/bin/R CMD check --install=check:DMRcate.install-out.txt --library=/Library/Frameworks/R.framework/Resources/library --no-vignettes --timings DMRcate_3.5.0.tar.gz StartedAt: 2025-07-17 19:05:08 -0400 (Thu, 17 Jul 2025) EndedAt: 2025-07-17 19:13:53 -0400 (Thu, 17 Jul 2025) EllapsedTime: 524.4 seconds RetCode: 0 Status: OK CheckDir: DMRcate.Rcheck Warnings: 0