Package: DMRcaller Version: 1.41.1 Command: /home/biocbuild/R/R/bin/R CMD INSTALL DMRcaller StartedAt: 2025-07-14 20:29:43 -0000 (Mon, 14 Jul 2025) EndedAt: 2025-07-14 20:30:00 -0000 (Mon, 14 Jul 2025) EllapsedTime: 17.1 seconds RetCode: 0 Status: OK