Package: DMRcaller Version: 1.41.1 Command: /home/biocbuild/R/R/bin/R CMD check --install=check:DMRcaller.install-out.txt --library=/home/biocbuild/R/R/site-library --no-vignettes --timings DMRcaller_1.41.1.tar.gz StartedAt: 2025-07-18 06:18:51 -0000 (Fri, 18 Jul 2025) EndedAt: 2025-07-18 06:25:08 -0000 (Fri, 18 Jul 2025) EllapsedTime: 376.5 seconds RetCode: 0 Status: OK CheckDir: DMRcaller.Rcheck Warnings: 0