Package: DMRcaller Version: 1.41.1 Command: /Library/Frameworks/R.framework/Resources/bin/R CMD INSTALL DMRcaller StartedAt: 2025-07-07 15:16:30 -0400 (Mon, 07 Jul 2025) EndedAt: 2025-07-07 15:16:50 -0400 (Mon, 07 Jul 2025) EllapsedTime: 19.9 seconds RetCode: 0 Status: OK