Package: DMRcaller Version: 1.41.1 Command: rm -rf DMRcaller.buildbin-libdir && mkdir DMRcaller.buildbin-libdir && /Users/biocbuild/BBS/utils/build-universal.sh DMRcaller_1.41.1.tar.gz /Library/Frameworks/R.framework/Resources/bin/R DMRcaller.buildbin-libdir StartedAt: 2025-07-10 01:13:27 -0400 (Thu, 10 Jul 2025) EndedAt: 2025-07-10 01:13:48 -0400 (Thu, 10 Jul 2025) EllapsedTime: 20.7 seconds RetCode: 0 Status: OK PackageFile: DMRcaller_1.41.1.tgz PackageFileSize: 1.847 MiB