Package: DMRcaller Version: 1.41.1 Command: /Library/Frameworks/R.framework/Resources/bin/R CMD INSTALL DMRcaller StartedAt: 2025-07-24 15:20:37 -0400 (Thu, 24 Jul 2025) EndedAt: 2025-07-24 15:20:42 -0400 (Thu, 24 Jul 2025) EllapsedTime: 5.0 seconds RetCode: 0 Status: OK