Package: DMRcaller Version: 1.41.1 Command: /Library/Frameworks/R.framework/Resources/bin/R CMD build --keep-empty-dirs --no-resave-data DMRcaller StartedAt: 2025-07-24 16:19:20 -0400 (Thu, 24 Jul 2025) EndedAt: 2025-07-24 16:19:48 -0400 (Thu, 24 Jul 2025) EllapsedTime: 28.3 seconds RetCode: 0 Status: OK PackageFile: DMRcaller_1.41.1.tar.gz PackageFileSize: 1.633 MiB