Package: DMCHMM Version: 1.31.0 Command: F:\biocbuild\bbs-3.22-bioc\R\bin\R.exe CMD check --no-multiarch --install=check:DMCHMM.install-out.txt --library=F:\biocbuild\bbs-3.22-bioc\R\library --no-vignettes --timings DMCHMM_1.31.0.tar.gz StartedAt: 2025-07-23 01:32:39 -0400 (Wed, 23 Jul 2025) EndedAt: 2025-07-23 01:42:31 -0400 (Wed, 23 Jul 2025) EllapsedTime: 592.6 seconds RetCode: 0 Status: WARNINGS CheckDir: DMCHMM.Rcheck Warnings: 1