Package: DMCHMM Version: 1.31.0 Command: chmod a+r DMCHMM -R && F:\biocbuild\bbs-3.22-bioc\R\bin\R.exe CMD build --keep-empty-dirs --no-resave-data DMCHMM StartedAt: 2025-07-22 18:39:03 -0400 (Tue, 22 Jul 2025) EndedAt: 2025-07-22 18:41:38 -0400 (Tue, 22 Jul 2025) EllapsedTime: 155.0 seconds RetCode: 0 Status: OK PackageFile: DMCHMM_1.31.0.tar.gz PackageFileSize: 743.9 KiB