Package: DMCHMM Version: 1.31.0 Command: rm -rf DMCHMM.buildbin-libdir && mkdir DMCHMM.buildbin-libdir && /Users/biocbuild/BBS/utils/build-universal.sh DMCHMM_1.31.0.tar.gz /Library/Frameworks/R.framework/Resources/bin/R DMCHMM.buildbin-libdir StartedAt: 2025-07-11 22:18:01 -0400 (Fri, 11 Jul 2025) EndedAt: 2025-07-11 22:18:17 -0400 (Fri, 11 Jul 2025) EllapsedTime: 15.3 seconds RetCode: 0 Status: OK PackageFile: DMCHMM_1.31.0.tgz PackageFileSize: 967.3 KiB