Package: DMCFB Version: 1.23.0 Command: /home/biocbuild/R/R/bin/R CMD build --keep-empty-dirs --no-resave-data DMCFB StartedAt: 2025-07-14 23:14:07 -0000 (Mon, 14 Jul 2025) EndedAt: 2025-07-14 23:15:54 -0000 (Mon, 14 Jul 2025) EllapsedTime: 107.0 seconds RetCode: 0 Status: OK PackageFile: DMCFB_1.23.0.tar.gz PackageFileSize: 1024 KiB