Package: DMCFB Version: 1.23.0 Command: F:\biocbuild\bbs-3.22-bioc\R\bin\R.exe CMD check --no-multiarch --install=check:DMCFB.install-out.txt --library=F:\biocbuild\bbs-3.22-bioc\R\library --no-vignettes --timings DMCFB_1.23.0.tar.gz StartedAt: 2025-07-22 01:33:43 -0400 (Tue, 22 Jul 2025) EndedAt: 2025-07-22 01:40:01 -0400 (Tue, 22 Jul 2025) EllapsedTime: 378.5 seconds RetCode: 0 Status: OK CheckDir: DMCFB.Rcheck Warnings: 0