Package: DMCFB Version: 1.23.0 Command: /Library/Frameworks/R.framework/Resources/bin/R CMD INSTALL DMCFB StartedAt: 2025-07-01 15:40:19 -0400 (Tue, 01 Jul 2025) EndedAt: 2025-07-01 15:41:07 -0400 (Tue, 01 Jul 2025) EllapsedTime: 48.0 seconds RetCode: 0 Status: OK