Package: DMCFB Version: 1.23.0 Command: rm -rf DMCFB.buildbin-libdir && mkdir DMCFB.buildbin-libdir && /Users/biocbuild/BBS/utils/build-universal.sh DMCFB_1.23.0.tar.gz /Library/Frameworks/R.framework/Resources/bin/R DMCFB.buildbin-libdir StartedAt: 2025-07-02 00:54:46 -0400 (Wed, 02 Jul 2025) EndedAt: 2025-07-02 00:55:38 -0400 (Wed, 02 Jul 2025) EllapsedTime: 52.0 seconds RetCode: 0 Status: OK PackageFile: DMCFB_1.23.0.tgz PackageFileSize: 1.21 MiB