Package: DFplyr Version: 1.3.0 Command: /home/biocbuild/R/R/bin/R CMD INSTALL DFplyr StartedAt: 2025-06-26 20:23:40 -0000 (Thu, 26 Jun 2025) EndedAt: 2025-06-26 20:23:49 -0000 (Thu, 26 Jun 2025) EllapsedTime: 9.1 seconds RetCode: 0 Status: OK