Package: DFplyr Version: 1.3.0 Command: /home/biocbuild/R/R/bin/R CMD build --keep-empty-dirs --no-resave-data DFplyr StartedAt: 2025-06-26 23:09:39 -0000 (Thu, 26 Jun 2025) EndedAt: 2025-06-26 23:10:00 -0000 (Thu, 26 Jun 2025) EllapsedTime: 21.0 seconds RetCode: 0 Status: OK PackageFile: DFplyr_1.3.0.tar.gz PackageFileSize: 459.4 KiB