Package: DFP Version: 1.67.0 Command: rm -rf DFP.buildbin-libdir && mkdir DFP.buildbin-libdir && F:\biocbuild\bbs-3.22-bioc\R\bin\R.exe CMD INSTALL --build --library=DFP.buildbin-libdir DFP_1.67.0.tar.gz StartedAt: 2025-08-15 10:09:17 -0400 (Fri, 15 Aug 2025) EndedAt: 2025-08-15 10:09:30 -0400 (Fri, 15 Aug 2025) EllapsedTime: 12.7 seconds RetCode: 0 Status: OK PackageFile: DFP_1.67.0.zip PackageFileSize: 568.2 KiB