Package: DExMA Version: 1.17.0 Command: /home/biocbuild/R/R/bin/R CMD check --install=check:DExMA.install-out.txt --library=/home/biocbuild/R/R/site-library --no-vignettes --timings DExMA_1.17.0.tar.gz StartedAt: 2025-07-11 07:28:58 -0000 (Fri, 11 Jul 2025) EndedAt: 2025-07-11 07:33:43 -0000 (Fri, 11 Jul 2025) EllapsedTime: 285.1 seconds RetCode: 0 Status: OK CheckDir: DExMA.Rcheck Warnings: 0