Package: DExMA Version: 1.17.0 Command: /home/biocbuild/R/R/bin/R CMD build --keep-empty-dirs --no-resave-data DExMA StartedAt: 2025-07-11 00:22:58 -0000 (Fri, 11 Jul 2025) EndedAt: 2025-07-11 00:24:08 -0000 (Fri, 11 Jul 2025) EllapsedTime: 70.0 seconds RetCode: 0 Status: OK PackageFile: DExMA_1.17.0.tar.gz PackageFileSize: 304.8 KiB