Package: DExMA Version: 1.17.0 Command: rm -rf DExMA.buildbin-libdir && mkdir DExMA.buildbin-libdir && F:\biocbuild\bbs-3.22-bioc\R\bin\R.exe CMD INSTALL --build --library=DExMA.buildbin-libdir DExMA_1.17.0.tar.gz StartedAt: 2025-07-14 08:51:19 -0400 (Mon, 14 Jul 2025) EndedAt: 2025-07-14 08:52:07 -0400 (Mon, 14 Jul 2025) EllapsedTime: 48.1 seconds RetCode: 0 Status: OK PackageFile: DExMA_1.17.0.zip PackageFileSize: 411.3 KiB