Package: DExMA Version: 1.17.0 Command: /Library/Frameworks/R.framework/Resources/bin/R CMD build --keep-empty-dirs --no-resave-data DExMA StartedAt: 2025-07-01 16:07:22 -0400 (Tue, 01 Jul 2025) EndedAt: 2025-07-01 16:07:46 -0400 (Tue, 01 Jul 2025) EllapsedTime: 24.3 seconds RetCode: 0 Status: OK PackageFile: DExMA_1.17.0.tar.gz PackageFileSize: 314.5 KiB