Package: DEsubs Version: 1.35.0 Command: /Library/Frameworks/R.framework/Resources/bin/R CMD INSTALL DEsubs StartedAt: 2025-10-23 15:21:59 -0400 (Thu, 23 Oct 2025) EndedAt: 2025-10-23 15:22:36 -0400 (Thu, 23 Oct 2025) EllapsedTime: 37.6 seconds RetCode: 0 Status: OK