Package: DEsubs Version: 1.35.0 Command: /Library/Frameworks/R.framework/Resources/bin/R CMD build --keep-empty-dirs --no-resave-data DEsubs StartedAt: 2025-10-23 16:44:14 -0400 (Thu, 23 Oct 2025) EndedAt: 2025-10-23 16:45:31 -0400 (Thu, 23 Oct 2025) EllapsedTime: 76.4 seconds RetCode: 0 Status: OK PackageFile: DEsubs_1.35.0.tar.gz PackageFileSize: 3.972 MiB