Package: DEsingle Version: 1.29.0 Command: /home/biocbuild/R/R/bin/R CMD INSTALL DEsingle StartedAt: 2025-10-20 20:16:18 -0000 (Mon, 20 Oct 2025) EndedAt: 2025-10-20 20:17:17 -0000 (Mon, 20 Oct 2025) EllapsedTime: 58.3 seconds RetCode: 0 Status: OK