Package: DEsingle Version: 1.29.0 Command: /home/biocbuild/R/R/bin/R CMD build --keep-empty-dirs --no-resave-data DEsingle StartedAt: 2025-10-20 23:20:06 -0000 (Mon, 20 Oct 2025) EndedAt: 2025-10-20 23:20:22 -0000 (Mon, 20 Oct 2025) EllapsedTime: 16.0 seconds RetCode: 0 Status: OK PackageFile: DEsingle_1.29.0.tar.gz PackageFileSize: 447.6 KiB