Package: DEsingle Version: 1.29.0 Command: chmod a+r DEsingle -R && F:\biocbuild\bbs-3.22-bioc\R\bin\R.exe CMD build --keep-empty-dirs --no-resave-data DEsingle StartedAt: 2025-08-14 19:40:51 -0400 (Thu, 14 Aug 2025) EndedAt: 2025-08-14 19:41:12 -0400 (Thu, 14 Aug 2025) EllapsedTime: 21.5 seconds RetCode: 0 Status: OK PackageFile: DEsingle_1.29.0.tar.gz PackageFileSize: 379.9 KiB