Package: DEsingle Version: 1.29.0 Command: /Library/Frameworks/R.framework/Resources/bin/R CMD INSTALL DEsingle StartedAt: 2025-10-05 15:04:20 -0400 (Sun, 05 Oct 2025) EndedAt: 2025-10-05 15:04:37 -0400 (Sun, 05 Oct 2025) EllapsedTime: 17.1 seconds RetCode: 0 Status: OK