Package: DEsingle Version: 1.29.0 Command: /Library/Frameworks/R.framework/Resources/bin/R CMD check --install=check:DEsingle.install-out.txt --library=/Library/Frameworks/R.framework/Resources/library --no-vignettes --timings DEsingle_1.29.0.tar.gz StartedAt: 2025-10-03 19:09:39 -0400 (Fri, 03 Oct 2025) EndedAt: 2025-10-03 19:10:46 -0400 (Fri, 03 Oct 2025) EllapsedTime: 66.7 seconds RetCode: 0 Status: OK CheckDir: DEsingle.Rcheck Warnings: 0