Package: DEqMS Version: 1.27.1 Command: /home/biocbuild/R/R/bin/R CMD INSTALL DEqMS StartedAt: 2025-07-24 21:07:46 -0000 (Thu, 24 Jul 2025) EndedAt: 2025-07-24 21:07:56 -0000 (Thu, 24 Jul 2025) EllapsedTime: 10.3 seconds RetCode: 0 Status: OK